BEGIN:VCALENDAR
VERSION:2.0
PRODID:-//Mahayana Temple - ECPv6.3.1//NONSGML v1.0//EN
CALSCALE:GREGORIAN
METHOD:PUBLISH
X-WR-CALNAME:Mahayana Temple
X-ORIGINAL-URL:https://cn.mahayana.us
X-WR-CALDESC:Mahayana Temple的活动
REFRESH-INTERVAL;VALUE=DURATION:PT1H
X-Robots-Tag:noindex
X-PUBLISHED-TTL:PT1H
BEGIN:VTIMEZONE
TZID:America/New_York
BEGIN:DAYLIGHT
TZOFFSETFROM:-0500
TZOFFSETTO:-0400
TZNAME:EDT
DTSTART:20200308T070000
END:DAYLIGHT
BEGIN:STANDARD
TZOFFSETFROM:-0400
TZOFFSETTO:-0500
TZNAME:EST
DTSTART:20201101T060000
END:STANDARD
BEGIN:DAYLIGHT
TZOFFSETFROM:-0500
TZOFFSETTO:-0400
TZNAME:EDT
DTSTART:20210314T070000
END:DAYLIGHT
BEGIN:STANDARD
TZOFFSETFROM:-0400
TZOFFSETTO:-0500
TZNAME:EST
DTSTART:20211107T060000
END:STANDARD
BEGIN:DAYLIGHT
TZOFFSETFROM:-0500
TZOFFSETTO:-0400
TZNAME:EDT
DTSTART:20220313T070000
END:DAYLIGHT
BEGIN:STANDARD
TZOFFSETFROM:-0400
TZOFFSETTO:-0500
TZNAME:EST
DTSTART:20221106T060000
END:STANDARD
BEGIN:DAYLIGHT
TZOFFSETFROM:-0500
TZOFFSETTO:-0400
TZNAME:EDT
DTSTART:20230312T070000
END:DAYLIGHT
BEGIN:STANDARD
TZOFFSETFROM:-0400
TZOFFSETTO:-0500
TZNAME:EST
DTSTART:20231105T060000
END:STANDARD
TZID:UTC
BEGIN:STANDARD
TZOFFSETFROM:+0000
TZOFFSETTO:+0000
TZNAME:UTC
DTSTART:20200101T000000
END:STANDARD
END:VTIMEZONE
BEGIN:VEVENT
DTSTART;VALUE=DATE:20231102
DTEND;VALUE=DATE:20231103
DTSTAMP:20260425T162708
CREATED:20201110T213525Z
LAST-MODIFIED:20221220T212144Z
UID:1799-1698883200-1698969599@cn.mahayana.us
SUMMARY:觀音誕 - 觀音菩薩出家日
DESCRIPTION:觀音誕 – 觀音菩薩出家日\n \n農曆9月19日是殊勝的觀音菩薩出家紀念日。美東佛教研究總會及大乘寺上、下兩院將同時舉行觀音誕法會，由數位法師帶領善信誦經祈福。祈福登記請致電聯繫寺院。
URL:https://cn.mahayana.us/event/%e8%a7%80%e9%9f%b3%e8%aa%95-%e8%a7%80%e9%9f%b3%e8%8f%a9%e8%96%a9%e5%87%ba%e5%ae%b6%e6%97%a5/
LOCATION:美東佛教研究總會及大乘寺上下院
CATEGORIES:Dharma Service
ORGANIZER;CN="mahayana Temple":MAILTO:info@mahayana.us
END:VEVENT
BEGIN:VEVENT
DTSTART;TZID=America/New_York:20221230T090000
DTEND;TZID=America/New_York:20221230T130000
DTSTAMP:20260425T162708
CREATED:20221219T212925Z
LAST-MODIFIED:20221220T205330Z
UID:1857-1672390800-1672405200@cn.mahayana.us
SUMMARY:2022臘八送暖祈福法會
DESCRIPTION:2022臘八送暖祈福法會\n \n過了臘八就是年！ 所以臘月初八這個日子，無疑敲響了華夏年節文化盛宴的開場鑼。 \n每年臘八，大乘寺都會舉辦施臘八粥送暖祈福法會，希望能用一碗臘八粥慰藉華族同胞們的思鄉念親之情。 \n臘八粥，又被稱為佛粥，正如南宋詩詞大家陸遊先生所言，今朝佛粥交相饋，更覺江村節物新。臘八粥的最早文字記載就在宋代，南宋吳自牧《夢梁錄》載：此月八日，寺院謂之臘八。大剎等寺，俱設五味粥，名曰臘八粥。 \n2022年12月29日、30日，上午11:30至下午1:00， 美東佛教研究總會及大乘寺上下兩院將由數位法師帶領八方居士善信共同祈福，并以香濃的臘八粥惠施大眾，祈願所有參加者吉祥如意，溫暖步入新年！ \n歡迎參加！ \n  \n 
URL:https://cn.mahayana.us/event/2022%e8%87%98%e5%85%ab%e9%80%81%e6%9a%96%e7%a5%88%e7%a6%8f%e6%b3%95%e6%9c%83-2/
LOCATION:Mahayana Temple City Campus\, 133 Canal Street\, New York\, NY\, 10002\, United States
ORGANIZER;CN="Mahayana Temple":MAILTO:info@mahayana.us
END:VEVENT
BEGIN:VEVENT
DTSTART;TZID=America/New_York:20221229T080000
DTEND;TZID=America/New_York:20221229T130000
DTSTAMP:20260425T162708
CREATED:20221219T212810Z
LAST-MODIFIED:20221219T212810Z
UID:1855-1672300800-1672318800@cn.mahayana.us
SUMMARY:2022臘八送暖祈福法會
DESCRIPTION:2022臘八送暖祈福法會\n \n過了臘八就是年！ 所以臘月初八這個日子，無疑敲響了華夏年節文化盛宴的開場鑼。 \n每年臘八，大乘寺都會舉辦施臘八粥送暖祈福法會，希望能用一碗臘八粥慰藉華族同胞們的思鄉念親之情。 \n臘八粥，又被稱為佛粥，正如南宋詩詞大家陸遊先生所言，今朝佛粥交相饋，更覺江村節物新。臘八粥的最早文字記載就在宋代，南宋吳自牧《夢梁錄》載：此月八日，寺院謂之臘八。大剎等寺，俱設五味粥，名曰臘八粥。 \n2022年12月29日、30日，上午11:30至下午1:00， 美東佛教研究總會及大乘寺上下兩院將由數位法師帶領八方居士善信共同祈福，并以香濃的臘八粥惠施大眾，祈願所有參加者吉祥如意，溫暖步入新年！ \n歡迎參加！ \n  \n  \n  \n 
URL:https://cn.mahayana.us/event/2022%e8%87%98%e5%85%ab%e9%80%81%e6%9a%96%e7%a5%88%e7%a6%8f%e6%b3%95%e6%9c%83/
LOCATION:Mahayana Temple City Campus\, 133 Canal Street\, New York\, NY\, 10002\, United States
ORGANIZER;CN="mahayana Temple":MAILTO:info@mahayana.us
END:VEVENT
BEGIN:VEVENT
DTSTART;TZID=America/New_York:20210822T093000
DTEND;TZID=America/New_York:20210822T150000
DTSTAMP:20260425T162708
CREATED:20201110T212657Z
LAST-MODIFIED:20201110T212657Z
UID:1791-1629624600-1629644400@cn.mahayana.us
SUMMARY:盂蘭法會
DESCRIPTION:
URL:https://cn.mahayana.us/event/%e7%9b%82%e8%98%ad%e6%b3%95%e6%9c%83-2/
LOCATION:大乘寺下院\, 133 Canal Street\, New York\, NY\, 10002
CATEGORIES:Dharma Service
ORGANIZER;CN="mahayana Temple":MAILTO:info@mahayana.us
END:VEVENT
BEGIN:VEVENT
DTSTART;TZID=America/New_York:20210821T093000
DTEND;TZID=America/New_York:20210821T150000
DTSTAMP:20260425T162708
CREATED:20201110T212602Z
LAST-MODIFIED:20201110T212602Z
UID:1789-1629538200-1629558000@cn.mahayana.us
SUMMARY:盂蘭法會
DESCRIPTION:
URL:https://cn.mahayana.us/event/%e7%9b%82%e8%98%ad%e6%b3%95%e6%9c%83/
LOCATION:大乘寺下院\, 133 Canal Street\, New York\, NY\, 10002
CATEGORIES:Dharma Service
ORGANIZER;CN="mahayana Temple":MAILTO:info@mahayana.us
END:VEVENT
BEGIN:VEVENT
DTSTART;TZID=America/New_York:20210728T093000
DTEND;TZID=America/New_York:20210728T150000
DTSTAMP:20260425T162708
CREATED:20201110T213614Z
LAST-MODIFIED:20201110T213614Z
UID:1801-1627464600-1627484400@cn.mahayana.us
SUMMARY:觀音誕 - 觀音菩薩成道日
DESCRIPTION:
URL:https://cn.mahayana.us/event/%e8%a7%80%e9%9f%b3%e8%aa%95-%e8%a7%80%e9%9f%b3%e8%8f%a9%e8%96%a9%e6%88%90%e9%81%93%e6%97%a5/
LOCATION:大乘寺下院\, 133 Canal Street\, New York\, NY\, 10002
CATEGORIES:Dharma Service
ORGANIZER;CN="mahayana Temple":MAILTO:info@mahayana.us
END:VEVENT
BEGIN:VEVENT
DTSTART;TZID=America/New_York:20210519T093000
DTEND;TZID=America/New_York:20210519T150000
DTSTAMP:20260425T162708
CREATED:20201110T213028Z
LAST-MODIFIED:20201110T213028Z
UID:1797-1621416600-1621436400@cn.mahayana.us
SUMMARY:浴佛節
DESCRIPTION:
URL:https://cn.mahayana.us/event/%e6%b5%b4%e4%bd%9b%e7%af%80/
LOCATION:大乘寺下院\, 133 Canal Street\, New York\, NY\, 10002
CATEGORIES:Dharma Service
ORGANIZER;CN="mahayana Temple":MAILTO:info@mahayana.us
END:VEVENT
BEGIN:VEVENT
DTSTART;TZID=America/New_York:20210404T093000
DTEND;TZID=America/New_York:20210404T150000
DTSTAMP:20260425T162708
CREATED:20201110T212935Z
LAST-MODIFIED:20201110T212935Z
UID:1795-1617528600-1617548400@cn.mahayana.us
SUMMARY:清明法會
DESCRIPTION:
URL:https://cn.mahayana.us/event/%e6%b8%85%e6%98%8e%e6%b3%95%e6%9c%83-2/
LOCATION:大乘寺下院\, 133 Canal Street\, New York\, NY\, 10002
CATEGORIES:Dharma Service
ORGANIZER;CN="Mahayana Temple":MAILTO:info@mahayana.us
END:VEVENT
BEGIN:VEVENT
DTSTART;TZID=America/New_York:20210403T093000
DTEND;TZID=America/New_York:20210403T150000
DTSTAMP:20260425T162708
CREATED:20201110T212850Z
LAST-MODIFIED:20201110T212850Z
UID:1793-1617442200-1617462000@cn.mahayana.us
SUMMARY:清明法會
DESCRIPTION:
URL:https://cn.mahayana.us/event/%e6%b8%85%e6%98%8e%e6%b3%95%e6%9c%83/
LOCATION:大乘寺下院\, 133 Canal Street\, New York\, NY\, 10002
CATEGORIES:Dharma Service
ORGANIZER;CN="mahayana Temple":MAILTO:info@mahayana.us
END:VEVENT
BEGIN:VEVENT
DTSTART;TZID=America/New_York:20210331T093000
DTEND;TZID=America/New_York:20210331T150000
DTSTAMP:20260425T162708
CREATED:20201110T213709Z
LAST-MODIFIED:20201110T213709Z
UID:1803-1617183000-1617202800@cn.mahayana.us
SUMMARY:觀音誕- 觀音菩薩出生日
DESCRIPTION:
URL:https://cn.mahayana.us/event/%e8%a7%80%e9%9f%b3%e8%aa%95-%e8%a7%80%e9%9f%b3%e8%8f%a9%e8%96%a9%e5%87%ba%e7%94%9f%e6%97%a5/
LOCATION:大乘寺下院\, 133 Canal Street\, New York\, NY\, 10002
CATEGORIES:Dharma Service
ORGANIZER;CN="mahayana Temple":MAILTO:info@mahayana.us
END:VEVENT
BEGIN:VEVENT
DTSTART;TZID=America/New_York:20210226T093000
DTEND;TZID=America/New_York:20210226T123000
DTSTAMP:20260425T162708
CREATED:20201110T211532Z
LAST-MODIFIED:20201110T211532Z
UID:1783-1614331800-1614342600@cn.mahayana.us
SUMMARY:齋天法會
DESCRIPTION:即供天法會 – 大乘佛教寺院中每年歲首的重要佛事，是供養七位大護法及24尊天的莊嚴儀式。為諸天神等講說佛法， 可以增益他們身力，而這些神祗們在他們的身力獲得增強后，會護持說法的人且饒益一切眾生。
URL:https://cn.mahayana.us/event/%e9%bd%8b%e5%a4%a9%e6%b3%95%e6%9c%83/
LOCATION:大乘寺上院\, 700 Ira Vail Road\, Leeds\, NY\, 12451\, 美国
CATEGORIES:Dharma Service
ORGANIZER;CN="mahayana Temple":MAILTO:info@mahayana.us
END:VEVENT
BEGIN:VEVENT
DTSTART;TZID=UTC:20210224T090000
DTEND;TZID=UTC:20210224T160000
DTSTAMP:20260425T162708
CREATED:20171114T155817Z
LAST-MODIFIED:20201110T205724Z
UID:276-1614157200-1614182400@cn.mahayana.us
SUMMARY:拜千佛法會
DESCRIPTION:在三日內由法師引領，誠心禮拜三世千佛，參與者受佛光注照洗滌障業，心神得享安寧。
URL:https://cn.mahayana.us/event/three-thousand-buddhas-repentance-2/
LOCATION:大乘寺上院\, 700 Ira Vail Road\, Leeds\, NY\, 12451\, 美国
CATEGORIES:Dharma Service
ATTACH;FMTTYPE=image/jpeg:https://cn.mahayana.us/wp-content/uploads/2017/11/event-4-copyright.jpg
ORGANIZER;CN="Mahayana Temple":MAILTO:info@mahayana.us
END:VEVENT
BEGIN:VEVENT
DTSTART;TZID=UTC:20210223T090000
DTEND;TZID=UTC:20210223T160000
DTSTAMP:20260425T162708
CREATED:20171114T155706Z
LAST-MODIFIED:20201110T210327Z
UID:273-1614070800-1614096000@cn.mahayana.us
SUMMARY:拜千佛法會
DESCRIPTION:在三日內由法師引領，誠心禮拜三世千佛，參與者受佛光注照洗滌障業，心神得享安寧。
URL:https://cn.mahayana.us/event/three-thousand-buddhas-repentance/
LOCATION:大乘寺上院\, 700 Ira Vail Road\, Leeds\, NY\, 12451\, 美国
CATEGORIES:Dharma Service
ATTACH;FMTTYPE=image/jpeg:https://cn.mahayana.us/wp-content/uploads/2017/11/event-3-copyright.jpg
ORGANIZER;CN="Mahayana Temple":MAILTO:info@mahayana.us
END:VEVENT
BEGIN:VEVENT
DTSTART;TZID=UTC:20210212T100000
DTEND;TZID=UTC:20210212T120000
DTSTAMP:20260425T162708
CREATED:20171114T155546Z
LAST-MODIFIED:20201110T210356Z
UID:270-1613124000-1613131200@cn.mahayana.us
SUMMARY:彌勒誕法會
DESCRIPTION:在正月正日時，上香拜佛，點燈添燈油，設齋供眾，以期整年蒙佛祖加持護佑。
URL:https://cn.mahayana.us/event/maitreyas-birthday/
LOCATION:大乘寺上院\, 700 Ira Vail Road\, Leeds\, NY\, 12451\, 美国
CATEGORIES:Dharma Service
ATTACH;FMTTYPE=image/jpeg:https://cn.mahayana.us/wp-content/uploads/2017/11/event-2-copyright.jpg
ORGANIZER;CN="Mahayana Temple":MAILTO:info@mahayana.us
END:VEVENT
BEGIN:VEVENT
DTSTART;VALUE=DATE:20210212
DTEND;VALUE=DATE:20210213
DTSTAMP:20260425T162708
CREATED:20201110T204639Z
LAST-MODIFIED:20201110T210417Z
UID:1770-1613088000-1613174399@cn.mahayana.us
SUMMARY:新年撞鐘祈福
DESCRIPTION:初一至十五，每日兩次，在擇出的吉時里，由法師或修行有成的居士撞鐘108響，誦念祈福語，在洪亮的鐘聲里，事事如意。
URL:https://cn.mahayana.us/event/%e6%96%b0%e5%b9%b4%e6%92%9e%e9%90%98%e7%a5%88%e7%a6%8f/
LOCATION:大乘寺下院\, 133 Canal Street\, New York\, NY\, 10002
CATEGORIES:Dharma Service
ORGANIZER;CN="Mahayana Temple":MAILTO:info@mahayana.us
END:VEVENT
BEGIN:VEVENT
DTSTART;TZID=UTC:20210211T230000
DTEND;TZID=UTC:20210212T000000
DTSTAMP:20260425T162708
CREATED:20171114T155420Z
LAST-MODIFIED:20201110T210444Z
UID:267-1613084400-1613088000@cn.mahayana.us
SUMMARY:接財神法會
DESCRIPTION:橫跨新舊兩年，即可隨眾守歲，又可在新年伊始插頭柱祈福香，招財納福。
URL:https://cn.mahayana.us/event/welcome-the-god-of-wealth/
LOCATION:大乘寺上院\, 700 Ira Vail Road\, Leeds\, NY\, 12451\, 美国
CATEGORIES:Dharma Service
ORGANIZER;CN="Mahayana Temple":MAILTO:info@mahayana.us
END:VEVENT
BEGIN:VEVENT
DTSTART;TZID=America/New_York:20210120T093000
DTEND;TZID=America/New_York:20210120T150000
DTSTAMP:20260425T162708
CREATED:20201110T213758Z
LAST-MODIFIED:20201110T215347Z
UID:1805-1611135000-1611154800@cn.mahayana.us
SUMMARY:臘八節
DESCRIPTION:
URL:https://cn.mahayana.us/event/%e8%87%98%e5%85%ab%e7%af%80/
LOCATION:大乘寺下院\, 133 Canal Street\, New York\, NY\, 10002
CATEGORIES:Dharma Service
ORGANIZER;CN="mahayana Temple":MAILTO:info@mahayana.us
END:VEVENT
BEGIN:VEVENT
DTSTART;TZID=America/New_York:20201221T093000
DTEND;TZID=America/New_York:20201221T123000
DTSTAMP:20260425T162708
CREATED:20201110T211932Z
LAST-MODIFIED:20201110T211932Z
UID:1787-1608543000-1608553800@cn.mahayana.us
SUMMARY:冬至法會
DESCRIPTION:
URL:https://cn.mahayana.us/event/%e5%86%ac%e8%87%b3%e6%b3%95%e6%9c%83-2/
LOCATION:大乘寺下院\, 133 Canal Street\, New York\, NY\, 10002
CATEGORIES:Dharma Service
ORGANIZER;CN="mahayana Temple":MAILTO:info@mahayana.us
END:VEVENT
BEGIN:VEVENT
DTSTART;TZID=America/New_York:20201220T093000
DTEND;TZID=America/New_York:20201220T133000
DTSTAMP:20260425T162708
CREATED:20201110T211843Z
LAST-MODIFIED:20201110T211843Z
UID:1785-1608456600-1608471000@cn.mahayana.us
SUMMARY:冬至法會
DESCRIPTION:
URL:https://cn.mahayana.us/event/%e5%86%ac%e8%87%b3%e6%b3%95%e6%9c%83/
LOCATION:大乘寺下院\, 133 Canal Street\, New York\, NY\, 10002
CATEGORIES:Dharma Service
ORGANIZER;CN="mahayana Temple":MAILTO:info@mahayana.us
END:VEVENT
BEGIN:VEVENT
DTSTART;TZID=UTC:20200513T100000
DTEND;TZID=UTC:20200513T113000
DTSTAMP:20260425T162708
CREATED:20171114T155935Z
LAST-MODIFIED:20201110T192711Z
UID:279-1589364000-1589369400@cn.mahayana.us
SUMMARY:CANCELED | The Four Noble Truth with Ven. Kuoming
DESCRIPTION:
URL:https://cn.mahayana.us/event/dharma-authentication-day-dharma-name-conferment-ceremony/
LOCATION:Mahayana Temple City Campus\, 133 Canal Street\, New York\, NY\, 10002\, United States
CATEGORIES:Dhara Talks
ATTACH;FMTTYPE=image/jpeg:https://cn.mahayana.us/wp-content/uploads/2017/11/Private_Services.jpg
ORGANIZER;CN="Mahayana Temple":MAILTO:info@mahayana.us
END:VEVENT
BEGIN:VEVENT
DTSTART;TZID=UTC:20200427T140000
DTEND;TZID=UTC:20200427T140000
DTSTAMP:20260425T162708
CREATED:20171114T172929Z
LAST-MODIFIED:20200411T224204Z
UID:285-1587996000-1587996000@cn.mahayana.us
SUMMARY:CANCELED | Life • Dharma • Practice with Ven. Eka Yana
DESCRIPTION:I can’t escape the chaos in life\, I can’t avoid the persecution in the world\, and I don’t want to let this kind of contamination distort myself again and again\, and I don’t want to spend my life feeling lost and confused.  What Should I do? Change the situation if you can\, if not then change your mindset. Let us be humble and rejoice together\, learn the essence of Dharma\, and start a life journey full of blessing and wisdom.
URL:https://cn.mahayana.us/event/blessing-empowerment-weekend-course-retreat/
LOCATION:Mahayana Temple City Campus\, 133 Canal Street\, New York\, NY\, 10002\, United States
CATEGORIES:Dhara Talks
ATTACH;FMTTYPE=image/jpeg:https://cn.mahayana.us/wp-content/uploads/2020/03/Venerable-Eka-Yana.jpg
ORGANIZER;CN="Mahayana Temple":MAILTO:info@mahayana.us
END:VEVENT
BEGIN:VEVENT
DTSTART;TZID=America/New_York:20200424T160000
DTEND;TZID=America/New_York:20200424T190000
DTSTAMP:20260425T162708
CREATED:20171114T160007Z
LAST-MODIFIED:20201110T232929Z
UID:282-1587744000-1587754800@cn.mahayana.us
SUMMARY:CANCELED | The Journey Home with H.E. Jurmey Jamtso Rinpoche
DESCRIPTION:
URL:https://cn.mahayana.us/event/candle-light-meditation/
LOCATION:大乘寺下院\, 133 Canal Street\, New York\, NY\, 10002
CATEGORIES:Dhara Talks
ATTACH;FMTTYPE=image/jpeg:https://cn.mahayana.us/wp-content/uploads/2017/11/The-Journey-Home.jpg
ORGANIZER;CN="Mahayana Temple":MAILTO:info@mahayana.us
END:VEVENT
END:VCALENDAR