BEGIN:VCALENDAR
VERSION:2.0
PRODID:-//Mahayana Temple - ECPv6.3.1//NONSGML v1.0//EN
CALSCALE:GREGORIAN
METHOD:PUBLISH
X-WR-CALNAME:Mahayana Temple
X-ORIGINAL-URL:https://cn.mahayana.us
X-WR-CALDESC:Mahayana Temple的活动
REFRESH-INTERVAL;VALUE=DURATION:PT1H
X-Robots-Tag:noindex
X-PUBLISHED-TTL:PT1H
BEGIN:VTIMEZONE
TZID:America/New_York
BEGIN:DAYLIGHT
TZOFFSETFROM:-0500
TZOFFSETTO:-0400
TZNAME:EDT
DTSTART:20250309T070000
END:DAYLIGHT
BEGIN:STANDARD
TZOFFSETFROM:-0400
TZOFFSETTO:-0500
TZNAME:EST
DTSTART:20251102T060000
END:STANDARD
END:VTIMEZONE
BEGIN:VEVENT
DTSTART;TZID=America/New_York:20251221T100000
DTEND;TZID=America/New_York:20251222T150000
DTSTAMP:20260425T063925
CREATED:20251030T233009Z
LAST-MODIFIED:20251030T233009Z
UID:3012-1766311200-1766415600@cn.mahayana.us
SUMMARY:冬至
DESCRIPTION:日期：2025年12月21日（星期天）到12月22日（星期一） \n地点：大乘寺（下院） \n地址：133 Canal Street\, New York\, NY 10002 \n冬至是中國在冬至期間舉行的傳統祭祀祖先節日。大乘寺誠摯邀請您參加為期兩天的冬至祭祀法會。信眾將與僧侶們一同誦讀《地藏經》，為祖先祈福。正如《地藏經》中卷第七品所述，以真誠感恩之心念經，可累積七分功德；其中一分功德歸於祖先，六分功德歸於祈禱的後代。通過此一法會， 除了懷著感恩之心表達對逝去祖先的敬意， 更能將這一份感恩之心回向給你所愛之人，祝福他們平安喜樂。
URL:https://cn.mahayana.us/event/%e5%86%ac%e8%87%b3/
END:VEVENT
END:VCALENDAR