BEGIN:VCALENDAR
VERSION:2.0
PRODID:-//Mahayana Temple - ECPv6.3.1//NONSGML v1.0//EN
CALSCALE:GREGORIAN
METHOD:PUBLISH
X-WR-CALNAME:Mahayana Temple
X-ORIGINAL-URL:https://cn.mahayana.us
X-WR-CALDESC:Mahayana Temple的活动
REFRESH-INTERVAL;VALUE=DURATION:PT1H
X-Robots-Tag:noindex
X-PUBLISHED-TTL:PT1H
BEGIN:VTIMEZONE
TZID:America/New_York
BEGIN:DAYLIGHT
TZOFFSETFROM:-0500
TZOFFSETTO:-0400
TZNAME:EDT
DTSTART:20250309T070000
END:DAYLIGHT
BEGIN:STANDARD
TZOFFSETFROM:-0400
TZOFFSETTO:-0500
TZNAME:EST
DTSTART:20251102T060000
END:STANDARD
END:VTIMEZONE
BEGIN:VEVENT
DTSTART;VALUE=DATE:20250830
DTEND;VALUE=DATE:20250907
DTSTAMP:20260425T133818
CREATED:20250127T145556Z
LAST-MODIFIED:20250127T152534Z
UID:2441-1756512000-1757203199@cn.mahayana.us
SUMMARY:梁皇宝忏 （上院）
DESCRIPTION:梁皇宝忏法会\n\n\n\n日期： 2025年8月30日—2025年9月6日\n地点： 大乘寺上院\n710 Ira Vail Rd\, Leeds\, NY 12451\n\n《梁皇宝忏》是梁武帝为了超度皇后郗氏而制的，梁武帝的元配夫人郗氏生性嫉妒，对六宫动念出口犹如毒蛇。她还忌恨梁武帝学佛修行，曾扯破佛教经书《妙法莲华经》；她轻欺三宝，曾将葱、蒜、韭以及腥膻之肉外边用面包裹，假意供佛斋僧，破僧净戒，坏佛清规。幸好僧人皆有智慧，自造斋饭，巧妙换掉郗氏的污斋。 \n郗氏生活在宫中不懂惜福，更不知因果报应，天天造轮回之恶业。于是在她三十岁时突然死亡，因生前心怀嗔毒，死后堕落为蟒蛇。 \n数月之后，武帝忽闻寝殿外有窸窣之声，视之猛然见一蟒盘踞殿上，武帝大惊失色。此时蟒蛇说人语道：“我主不要心惊，蟒乃宫中郗氏遭贬。妾因不信佛法，堕落畜道得此苦报。至今尚无穴藏身，肚中饥饿，遍身鳞甲多诸毒虫，恒抱痛苦，无有休息，只得奔投乞赖我王，悯念昔日夫妻之情，施恩救拔。吾若得脱此苦，衔环当报，不负主恩。” \n梁武帝闻听此言已是魂飞魄散，良久方才苏醒。于是急忙拜请志公禅师，问：“郗氏因何故堕落蟒蛇？”志公禅师说：“因她心不信佛，嫉妒六宫，不敬三宝，不修片善。郗氏娘娘把王宫当作了天堂，只享福，不造福，不信因果，不怕报应。” \n武帝问：“怎样才能超度郗氏？”志公禅师说：“如果超度，需我主发心，大办斋供，请高僧，建道场，称扬佛法。我皇需亲自礼拜，检录藏典，诵经忏悔。”武帝依师之言，遂请志公禅师等依经律忏罪要义，制忏文三十卷，为郗氏忏悔。众僧建坛行道礼拜方毕，见一容仪端严的天人对梁武帝说：“我蒙佛力，得脱蟒身，将生天上，故来礼谢。” \n这部由梁武帝发起的忏悔文，因为超度郗氏皇后效果明显，历代拜忏的感应更是层出不穷，度化了无量众生而流传至今，所以被称为宝忏。此忏能够灾消吉至，罪灭福生，蒙弥勒菩萨梦中赐名为慈悲道场，后世高僧去繁取要，改集为《慈悲道场忏法》十卷。又此忏法因始于梁武帝，故称为《梁皇宝忏》。\n《梁皇宝忏》全称《慈悲道场忏法》，是中国佛教史上卷帙最大的一部忏法，素有「忏王」的美誉。一般佛教徒于消灾、济度亡灵时，常延请僧众虔修此忏，为汉传佛教中实行最久的忏法。它的内容非常丰富，是结合所有大乘经典的法义，以及大乘佛菩萨圣号，彙编而成。 \n《梁皇宝忏》历经一千多年以来的流传、演变，不仅适合出家众，更适合一般大众。忏悔，是教我们把自己的心放进佛法的水中去洗。拜忏的功用，即在于洗刷我们这颗染污著罪垢的心。更积极的意义是，主动修行受报、自负责任，这样的忏悔，才是真正落实修持慈悲法门。因为在忏悔、除罪的过程中，涵养自性的慈悲心，愿自己利益一切众生，那就是行菩萨道。它的修行融合诵经与拜佛，口诵、耳听、心惟、身礼拜，是清淨身口意三业最好的一部忏法。 \n诚邀您参加梁皇宝忏法会，共同祈愿超度先亡、忏悔业障、积累福慧。《梁皇宝忏》由梁武帝为追荐皇后而作，被誉为佛教忏法中最殊胜的经典之一。通过礼拜与诵念宝忏的科仪，帮助众生消除业障、化解怨结、增益福报，同时也祈愿世界和平、众生安乐。 \n梁皇宝忏的殊胜意义\n梁皇宝忏包含深刻的忏悔法门，透过礼佛、诵经、献灯、供养，祈愿三宝加持。参与法会的功德，不仅可为先祖亡灵超荐，还可为在世众生祈福，让家庭和乐、事业顺利、身心安康。 \n欢迎您前来参加，在大乘寺上院清净庄严的道场中，共沐佛恩，同修福慧，共结善缘！ \n更多信息，请发送邮件至 info@mahayana.us 或访问我们的网站。
URL:https://cn.mahayana.us/event/%e6%a2%81%e7%9a%87%e5%ae%9d%e5%bf%8f-%ef%bc%88%e4%b8%8a%e9%99%a2%ef%bc%89/
END:VEVENT
END:VCALENDAR