BEGIN:VCALENDAR
VERSION:2.0
PRODID:-//Mahayana Temple - ECPv6.3.1//NONSGML v1.0//EN
CALSCALE:GREGORIAN
METHOD:PUBLISH
X-WR-CALNAME:Mahayana Temple
X-ORIGINAL-URL:https://cn.mahayana.us
X-WR-CALDESC:Mahayana Temple的活动
REFRESH-INTERVAL;VALUE=DURATION:PT1H
X-Robots-Tag:noindex
X-PUBLISHED-TTL:PT1H
BEGIN:VTIMEZONE
TZID:America/New_York
BEGIN:DAYLIGHT
TZOFFSETFROM:-0500
TZOFFSETTO:-0400
TZNAME:EDT
DTSTART:20250309T070000
END:DAYLIGHT
BEGIN:STANDARD
TZOFFSETFROM:-0400
TZOFFSETTO:-0500
TZNAME:EST
DTSTART:20251102T060000
END:STANDARD
END:VTIMEZONE
BEGIN:VEVENT
DTSTART;TZID=America/New_York:20250921T100000
DTEND;TZID=America/New_York:20250921T170000
DTSTAMP:20260425T132750
CREATED:20250204T184049Z
LAST-MODIFIED:20250204T184231Z
UID:2454-1758448800-1758474000@cn.mahayana.us
SUMMARY:地藏王菩萨圣诞法会（上院）
DESCRIPTION:  \n\n\n地藏王菩萨圣诞法会 \n\n日期： 2025年9月21日（星期日，农历七月廿九）\n地点： 大乘寺上院\n710 Ira Vail Rd\, Leeds\, NY 12451\n\n诚邀您参加地藏王菩萨圣诞法会，共同祈愿超度先亡、离苦得乐，并为现世众生祈福增慧。地藏菩萨以“地狱不空，誓不成佛”的大愿闻名，其慈悲宏愿为无数众生指引了解脱之路。在庄严的法会中，通过诵经、礼拜与供养，深深感念地藏菩萨的慈悲与智慧，祈愿佛光加被，众生福慧增长。 \n法会的意义\n地藏王菩萨圣诞是修福积德的殊胜时刻。通过诵念《地藏经》，我们可以净化身心，为先祖亡灵回向功德，祈愿他们早生净土；同时也为在世亲友祈福，愿众生离苦得乐、平安吉祥。 \n欢迎您来到大乘寺上院，在清净庄严的道场中共修功德，感受地藏菩萨的宏大愿力和慈悲光辉！ \n更多信息，请发送邮件至 info@mahayana.us 或访问我们的网站。
URL:https://cn.mahayana.us/event/%e5%9c%b0%e8%97%8f%e7%8e%8b%e8%8f%a9%e8%90%a8%e5%9c%a3%e8%af%9e%e6%b3%95%e4%bc%9a%ef%bc%88%e4%b8%8a%e9%99%a2%ef%bc%89/
LOCATION:大乘寺上院\, 700 Ira Vail Road\, Leeds\, NY\, 12451\, 美国
ORGANIZER;CN="mahayana Temple":MAILTO:info@mahayana.us
END:VEVENT
END:VCALENDAR