BEGIN:VCALENDAR
VERSION:2.0
PRODID:-//Mahayana Temple - ECPv6.3.1//NONSGML v1.0//EN
CALSCALE:GREGORIAN
METHOD:PUBLISH
X-WR-CALNAME:Mahayana Temple
X-ORIGINAL-URL:https://cn.mahayana.us
X-WR-CALDESC:Mahayana Temple的活动
REFRESH-INTERVAL;VALUE=DURATION:PT1H
X-Robots-Tag:noindex
X-PUBLISHED-TTL:PT1H
BEGIN:VTIMEZONE
TZID:America/New_York
BEGIN:DAYLIGHT
TZOFFSETFROM:-0500
TZOFFSETTO:-0400
TZNAME:EDT
DTSTART:20250309T070000
END:DAYLIGHT
BEGIN:STANDARD
TZOFFSETFROM:-0400
TZOFFSETTO:-0500
TZNAME:EST
DTSTART:20251102T060000
END:STANDARD
END:VTIMEZONE
BEGIN:VEVENT
DTSTART;VALUE=DATE:20251108
DTEND;VALUE=DATE:20251109
DTSTAMP:20260425T100141
CREATED:20250126T184404Z
LAST-MODIFIED:20250126T184404Z
UID:2437-1762560000-1762646399@cn.mahayana.us
SUMMARY:观音诞法会 · 农历九月十九 （上院）
DESCRIPTION:  \n观音诞法会 \n\n日期：\n\n农历九月十九（2025年11月8日，星期六）\n\n\n地点： 大乘寺上院\n710 Ira Vail Rd\, Leeds\, NY 12451\n\n观音菩萨是华人信众中最受敬仰的菩萨之一，每年有三次观音诞法会，分别纪念观音菩萨的出生、出家和得道。这不仅象征着光明与智慧的诞生，也提醒我们通过佛法的引领从迷惘走向解脱。 \n观音诞的由来\n农历二月十九：观音菩萨诞生日\n这一天是观音菩萨从天界投胎转世为凡人的日子，也称“观音出生日”。根据《大悲心陀罗尼经》，观音菩萨早在无量劫前已成佛，法号“正法明如来”，但因慈悲心愿“倒驾慈航”，以菩萨身份普渡众生。许多信众会在此日吃素，并参加法会诵经祈福，表达对菩萨的尊敬，这一习俗被称为“观音斋”。 \n农历六月十九：观音菩萨得道日\n这一天是观音菩萨修成正果、成为“大慈大悲观世音菩萨”的日子。据《悲华经》记载，观音菩萨原是删提岚国的大太子“不眴”，最终在宝藏如来座下修行成道。另据《香山宝卷》的民间传说，观音化身妙善公主，因舍身救父，献出手眼而感悟成佛。这一天法会通过礼拜与祈愿，让信众共沾菩萨慈悲智慧的加持。 \n农历九月十九：观音菩萨出家日\n这是观音菩萨以凡人之身参透佛法、迈向菩萨道的日子。根据《悲华经》，太子不眴于宝藏如来前发愿，愿舍身修道，为天下众生解苦渡难。这一天的法会强调精进修行、发菩提心，祈愿菩萨护佑众生，福慧增长。 \n参与观音诞法会的意义\n观音诞是感恩与修行的重要时刻，让我们通过诵经礼佛、供灯祈福等方式，与菩萨心愿相应。法会祈愿众生离苦得乐、世界和平，愿所有善信在菩萨慈悲的光辉中智慧圆满，福慧双增。 \n更多信息，请发送邮件至 info@mahayana.us 或访问我们的网站。
URL:https://cn.mahayana.us/event/%e8%a7%82%e9%9f%b3%e8%af%9e%e6%b3%95%e4%bc%9a-%c2%b7-%e5%86%9c%e5%8e%86%e4%b9%9d%e6%9c%88%e5%8d%81%e4%b9%9d-%ef%bc%88%e4%b8%8a%e9%99%a2%ef%bc%89/
LOCATION:大乘寺上院\, 700 Ira Vail Road\, Leeds\, NY\, 12451\, 美国
END:VEVENT
BEGIN:VEVENT
DTSTART;VALUE=DATE:20251108
DTEND;VALUE=DATE:20251109
DTSTAMP:20260425T100141
CREATED:20250414T163836Z
LAST-MODIFIED:20250414T163836Z
UID:2535-1762560000-1762646399@cn.mahayana.us
SUMMARY:观音诞法会 · 农历九月十九 （下院）
DESCRIPTION:  \n观音诞法会  \n\n日期：\n\n农历九月十九（2025年11月8日，星期六）\n\n\n地点： 大乘寺下院\n133 Canal Street\, New York\, NY 10002\n\n观音菩萨是华人信众中最受敬仰的菩萨之一，每年有三次观音诞法会，分别纪念观音菩萨的出生、出家和得道。这不仅象征着光明与智慧的诞生，也提醒我们通过佛法的引领从迷惘走向解脱。 \n观音诞的由来\n农历二月十九：观音菩萨诞生日\n这一天是观音菩萨从天界投胎转世为凡人的日子，也称“观音出生日”。根据《大悲心陀罗尼经》，观音菩萨早在无量劫前已成佛，法号“正法明如来”，但因慈悲心愿“倒驾慈航”，以菩萨身份普渡众生。许多信众会在此日吃素，并参加法会诵经祈福，表达对菩萨的尊敬，这一习俗被称为“观音斋”。 \n农历六月十九：观音菩萨得道日\n这一天是观音菩萨修成正果、成为“大慈大悲观世音菩萨”的日子。据《悲华经》记载，观音菩萨原是删提岚国的大太子“不眴”，最终在宝藏如来座下修行成道。另据《香山宝卷》的民间传说，观音化身妙善公主，因舍身救父，献出手眼而感悟成佛。这一天法会通过礼拜与祈愿，让信众共沾菩萨慈悲智慧的加持。 \n农历九月十九：观音菩萨出家日\n这是观音菩萨以凡人之身参透佛法、迈向菩萨道的日子。根据《悲华经》，太子不眴于宝藏如来前发愿，愿舍身修道，为天下众生解苦渡难。这一天的法会强调精进修行、发菩提心，祈愿菩萨护佑众生，福慧增长。 \n参与观音诞法会的意义\n观音诞是感恩与修行的重要时刻，让我们通过诵经礼佛、供灯祈福等方式，与菩萨心愿相应。法会祈愿众生离苦得乐、世界和平，愿所有善信在菩萨慈悲的光辉中智慧圆满，福慧双增。 \n更多信息，请发送邮件至 info@mahayana.us 或访问我们的网站。
URL:https://cn.mahayana.us/event/%e8%a7%82%e9%9f%b3%e8%af%9e%e6%b3%95%e4%bc%9a-%c2%b7-%e5%86%9c%e5%8e%86%e4%b9%9d%e6%9c%88%e5%8d%81%e4%b9%9d-%ef%bc%88%e4%b8%8b%e9%99%a2%ef%bc%89/
LOCATION:大乘寺下院\, 133 Canal Street\, New York\, NY\, 10002
ORGANIZER;CN="mahayana Temple":MAILTO:info@mahayana.us
END:VEVENT
END:VCALENDAR